BEGIN:VCALENDAR
VERSION:2.0
PRODID:www.codnes.sk
BEGIN:VEVENT
UID:69e75a635e76f
DTSTART:20260422T160000Z
SEQUENCE:0
TRANSP:OPAQUE
LOCATION:Bratislava
SUMMARY:2026 IIHF Majstrovstvá sveta hráčov do 18 rokov - Bratislava
CLASS:PUBLIC
DESCRIPTION:2026 IIHF Majstrovstvá sveta hráčov do 18 rokov sa v roku 20
 26 hrajú na Slovensku. Na prelome apríla
DTSTAMP:20260421T110715Z
END:VEVENT
END:VCALENDAR