BEGIN:VCALENDAR
VERSION:2.0
PRODID:www.codnes.sk
BEGIN:VEVENT
UID:69e6abc8033a3
DTSTART:20201117T180000Z
SEQUENCE:0
TRANSP:OPAQUE
DTEND:20201117T220000Z
LOCATION:Banská Bystrica
SUMMARY:30 rokov mestskej samosprávy v Banskej Bystrici
CLASS:PUBLIC
DESCRIPTION:30 rokov mestskej samosprávy v Banskej BystriciV novembri 1990
  bola na Slovensku obnovená územná sam
DTSTAMP:20260420T224216Z
END:VEVENT
END:VCALENDAR