BEGIN:VCALENDAR
VERSION:2.0
PRODID:www.codnes.sk
BEGIN:VEVENT
UID:69e5f23413c28
DTSTART:20260422T180000Z
SEQUENCE:0
TRANSP:OPAQUE
DTEND:20260422T190000Z
LOCATION:Bratislava
SUMMARY:Afro workout v klube
CLASS:PUBLIC
DESCRIPTION:Afro workout v klube je cvičenie\, tanec\, kardio\, energia a 
 zábavný spôsob zhadzovania kíl. Takže zab
DTSTAMP:20260420T093028Z
END:VEVENT
END:VCALENDAR