BEGIN:VCALENDAR
VERSION:2.0
PRODID:www.codnes.sk
BEGIN:VEVENT
UID:69e9e4546aa7d
DTSTART:20260424T160000Z
SEQUENCE:0
TRANSP:OPAQUE
DTEND:20260424T170000Z
LOCATION:Bratislava
SUMMARY:Ako funguje v praxi  AI business asistent Nexana?
CLASS:PUBLIC
DESCRIPTION:Nexana: biznis asistent\, ktorý vám ušetrí hodiny prácePod
 nikanie prináša každý deň kopec otázok – čo
DTSTAMP:20260423T092020Z
END:VEVENT
END:VCALENDAR