BEGIN:VCALENDAR
VERSION:2.0
PRODID:www.codnes.sk
BEGIN:VEVENT
UID:69e732d9da4ab
DTSTART:20260310T173000Z
SEQUENCE:0
TRANSP:OPAQUE
DTEND:20260310T213000Z
LOCATION:Bratislava
SUMMARY:Ako sa vyrába superžena - the Soviet style
CLASS:PUBLIC
DESCRIPTION:Prednáška Zuzany Bujačkovej priblíži\, ako socialistické 
 médiá „vyrábali“ ideál ženy – pracujúcej\, ob
DTSTAMP:20260421T081833Z
END:VEVENT
END:VCALENDAR