BEGIN:VCALENDAR
VERSION:2.0
PRODID:www.codnes.sk
BEGIN:VEVENT
UID:69e8c61dc5bc9
DTSTART:20260422T173000Z
SEQUENCE:0
TRANSP:OPAQUE
DTEND:20260422T183000Z
LOCATION:Bratislava
SUMMARY:Alica v (ne)krajine zázrakov (predstavenie\, skupina tínedžerov 
 Div.tvory)
CLASS:PUBLIC
DESCRIPTION:Oni.Vôbec im nerozumiem.Akoby sme sa vlastne ani nepoznali.&nb
 sp\;Akoby sme boli každý z iného sveta\,
DTSTAMP:20260422T125909Z
END:VEVENT
END:VCALENDAR