BEGIN:VCALENDAR
VERSION:2.0
PRODID:www.codnes.sk
BEGIN:VEVENT
UID:69e5f0290a296
DTSTART:20260420T180000Z
SEQUENCE:0
TRANSP:OPAQUE
DTEND:20260420T220000Z
LOCATION:Modra
SUMMARY:AMERICAN ROCK TOUR
CLASS:PUBLIC
DESCRIPTION:Známe aj neznáme piesne kapiel\, akými sú Nirvana\, Red Hot
  Chilli Peppers\, Aerosmith\, Guns N’ Roses\,
DTSTAMP:20260420T092145Z
END:VEVENT
END:VCALENDAR