BEGIN:VCALENDAR
VERSION:2.0
PRODID:www.codnes.sk
BEGIN:VEVENT
UID:69e7326c4eb73
DTSTART:20260316T180000Z
SEQUENCE:0
TRANSP:OPAQUE
DTEND:20260316T220000Z
LOCATION:Bratislava
SUMMARY:Antistresové dielne
CLASS:PUBLIC
DESCRIPTION:Doprajte si pokojný večer a príďte sa po hektickom dni upok
 ojiť manuálnou tvorbou. Materiál je zabez
DTSTAMP:20260421T081644Z
END:VEVENT
END:VCALENDAR