BEGIN:VCALENDAR
VERSION:2.0
PRODID:www.codnes.sk
BEGIN:VEVENT
UID:69ed3a0e2526f
DTSTART:20260426T190000Z
SEQUENCE:0
TRANSP:OPAQUE
DTEND:20260426T235959Z
LOCATION:Bratislava
SUMMARY:𝗽𝗮𝗿𝗮_𝗻𝗼𝗻𝗻𝗼𝗿𝗺𝗮𝗹 / aprílová 
 repríza @P*AKT
CLASS:PUBLIC
DESCRIPTION:„Lásku tu pokojne nájdi. Koľko len chceš. Prišiel si si 
 pre zážitok a nové city. Tie si však domov o
DTSTAMP:20260425T220254Z
END:VEVENT
END:VCALENDAR