BEGIN:VCALENDAR
VERSION:2.0
PRODID:www.codnes.sk
BEGIN:VEVENT
UID:69e73539a127d
DTSTART:20260317T133000Z
SEQUENCE:0
TRANSP:OPAQUE
DTEND:20260317T150000Z
LOCATION:Bratislava
SUMMARY:ASAI CONNECT: Hodnota vašich dát v ére AI. Od firemných dát k 
 reálnym rozhodnutiam (školenie)
CLASS:PUBLIC
DESCRIPTION:Vzdelávacia platforma&nbsp\;ASAI Connect&nbsp\;od Asociácie A
 I - ASAI prináša praktické školenie zamer
DTSTAMP:20260421T082841Z
END:VEVENT
END:VCALENDAR