BEGIN:VCALENDAR
VERSION:2.0
PRODID:www.codnes.sk
BEGIN:VEVENT
UID:69e6ccfab05ca
DTSTART:20260528T200000Z
SEQUENCE:0
TRANSP:OPAQUE
DTEND:20260528T235900Z
LOCATION:Bratislava
SUMMARY:bbno$
CLASS:PUBLIC
DESCRIPTION:bbno$ prvýkrát na Slovensku!Kanadský rapper a spevák bbno$ 
 patrí medzi najväčšie mená digitálnej éry
DTSTAMP:20260421T010354Z
END:VEVENT
END:VCALENDAR