BEGIN:VCALENDAR
VERSION:2.0
PRODID:www.codnes.sk
BEGIN:VEVENT
UID:69eae51d51f19
DTSTART:20260425T073000Z
SEQUENCE:0
TRANSP:OPAQUE
DTEND:20260425T113000Z
LOCATION:Bratislava
SUMMARY:BEHÁME!
CLASS:PUBLIC
DESCRIPTION:BEHÁME!Poďte si zabehnúť s novou komunitnou bežeckou skupi
 nou pod vedením nášho suseda Tomáša Raka.
DTSTAMP:20260424T033557Z
END:VEVENT
END:VCALENDAR