BEGIN:VCALENDAR
VERSION:2.0
PRODID:www.codnes.sk
BEGIN:VEVENT
UID:69ed3bd001215
DTSTART:20260426T160000Z
SEQUENCE:0
TRANSP:OPAQUE
DTEND:20260426T200000Z
LOCATION:Bratislava
SUMMARY:BEJBY BAJBL BAND - muzikál pre celú rodinu
CLASS:PUBLIC
DESCRIPTION:hudobno-divadelná show pre deti\, rodičov i dospelých plná 
 skvelých pesničiek a dobrej nálady&nbsp\;Jo
DTSTAMP:20260425T221024Z
END:VEVENT
END:VCALENDAR