BEGIN:VCALENDAR
VERSION:2.0
PRODID:www.codnes.sk
BEGIN:VEVENT
UID:69e75a322bfa3
DTSTART:20260422T170000Z
SEQUENCE:0
TRANSP:OPAQUE
DTEND:20260422T210000Z
LOCATION:Bratislava
SUMMARY:BEJBY BAJBL BAND - muzikál pre celú rodinu
CLASS:PUBLIC
DESCRIPTION:hudobno-divadelná show pre deti\, rodičov i dospelých plná 
 skvelých pesničiek a dobrej nálady&nbsp\;Jo
DTSTAMP:20260421T110626Z
END:VEVENT
END:VCALENDAR