BEGIN:VCALENDAR
VERSION:2.0
PRODID:www.codnes.sk
BEGIN:VEVENT
UID:69e735680420f
DTSTART:20260318T083000Z
SEQUENCE:0
TRANSP:OPAQUE
DTEND:20260318T123000Z
LOCATION:Bratislava
SUMMARY:Beseda so spisovateľkou Kristínou Mišovičovou / Haló z Račian
 skej knižnice s Katkou Kosánovou
CLASS:PUBLIC
DESCRIPTION:Marec – mesiac knihyMarec patrí knihám\, príbehom a fantá
 zii. Kniha je bránou do sveta poznania\, dobr
DTSTAMP:20260421T082928Z
END:VEVENT
END:VCALENDAR