BEGIN:VCALENDAR
VERSION:2.0
PRODID:www.codnes.sk
BEGIN:VEVENT
UID:69e9e20cb6c43
DTSTART:20260424T140000Z
SEQUENCE:0
TRANSP:OPAQUE
DTEND:20260424T180000Z
LOCATION:Bratislava
SUMMARY:Bratislava a lodná doprava v minulosti
CLASS:PUBLIC
DESCRIPTION:Bratislava bola po stáročia mestom úzko spätým s Dunajom. 
 Rieka formovala každodenný život obyvateľo
DTSTAMP:20260423T091036Z
END:VEVENT
END:VCALENDAR