BEGIN:VCALENDAR
VERSION:2.0
PRODID:www.codnes.sk
BEGIN:VEVENT
UID:69eb388fa7e92
DTSTART:20260425T110000Z
SEQUENCE:0
TRANSP:OPAQUE
DTEND:20260425T123000Z
LOCATION:Bratislava
SUMMARY:Bratislava\, ako ju nepoznáme
CLASS:PUBLIC
DESCRIPTION:Netradičná interaktívna prezentácia o Bratislave od organiz
 ácií SEEDS a LEBOMÄDVEĎ odhalí jej menej
DTSTAMP:20260424T093159Z
END:VEVENT
END:VCALENDAR