BEGIN:VCALENDAR
VERSION:2.0
PRODID:www.codnes.sk
BEGIN:VEVENT
UID:69e9e35622fe0
DTSTART:20260423T170000Z
SEQUENCE:0
TRANSP:OPAQUE
DTEND:20260423T180000Z
LOCATION:Bratislava
SUMMARY:Bratislava - križovatka obchodných ciest v antike
CLASS:PUBLIC
DESCRIPTION:Bola Bratislava už v antike dôležitým bodom na mape Európy
 ? Akú úlohu zohrávala v obchodných kontakt
DTSTAMP:20260423T091606Z
END:VEVENT
END:VCALENDAR