BEGIN:VCALENDAR
VERSION:2.0
PRODID:www.codnes.sk
BEGIN:VEVENT
UID:69ed3bc9d702b
DTSTART:20260426T120000Z
SEQUENCE:0
TRANSP:OPAQUE
DTEND:20260426T150000Z
LOCATION:Bratislava
SUMMARY:Bratislavské mestské dni na Veľvyslanectve Indie
CLASS:PUBLIC
DESCRIPTION:Veľvyslanectvo Indie v Bratislave prinesie v rámci Bratislavs
 kých mestských dní 3 workshopy pre širo
DTSTAMP:20260425T221017Z
END:VEVENT
END:VCALENDAR