BEGIN:VCALENDAR
VERSION:2.0
PRODID:www.codnes.sk
BEGIN:VEVENT
UID:69e5f04ee9caa
DTSTART:20260420T180000Z
SEQUENCE:0
TRANSP:OPAQUE
DTEND:20260420T200000Z
LOCATION:Bratislava 1 - Staré Mesto
SUMMARY:Cena Jána Cikkera 2026
CLASS:PUBLIC
DESCRIPTION:Slávnostný koncert spojený s udeľovaním Ceny Jána Cikkera
  za rok 2025 sa uskutoční v pondelok 20. apríla 2026 o 18:00 v Zrkadlov
 ej sieni Primaciálneho paláca.
DTSTAMP:20260420T092222Z
END:VEVENT
END:VCALENDAR