BEGIN:VCALENDAR
VERSION:2.0
PRODID:www.codnes.sk
BEGIN:VEVENT
UID:69e5f04ee7c48
DTSTART:20260422T180000Z
SEQUENCE:0
TRANSP:OPAQUE
DTEND:20260422T220000Z
LOCATION:Bratislava
SUMMARY:CESTOVATEĽSKÝ KLUB - KEŇA
CLASS:PUBLIC
DESCRIPTION:Cestovateľská prednáška Martina Saba\, spojená s projekcio
 u a s besedouPočas nášho rozprávania sa spo
DTSTAMP:20260420T092222Z
END:VEVENT
END:VCALENDAR