BEGIN:VCALENDAR
VERSION:2.0
PRODID:www.codnes.sk
BEGIN:VEVENT
UID:69e5f0ed2d0c0
DTSTART:20260313T190000Z
SEQUENCE:0
TRANSP:OPAQUE
LOCATION:Bratislava
SUMMARY:Chlast
CLASS:PUBLIC
DESCRIPTION:Thomas Vinterberg\, Tobias Lindholm\, Claus Flygare\nChlast\nR
 éžia: Edvard KudláčPreklad: Zuzana Sotákov
DTSTAMP:20260420T092501Z
END:VEVENT
END:VCALENDAR