BEGIN:VCALENDAR
VERSION:2.0
PRODID:www.codnes.sk
BEGIN:VEVENT
UID:69e746ddab75b
DTSTART:20260315T163000Z
SEQUENCE:0
TRANSP:OPAQUE
DTEND:20260315T180000Z
LOCATION:Bratislava
SUMMARY:Čierna smrť - morové rany mesta | Bratislavské potulky
CLASS:PUBLIC
DESCRIPTION:V polovici 14. storočia sa do Európy dostala čierna smrť&nb
 sp\; a nezastavila sa ani pred hradbami ná
DTSTAMP:20260421T094357Z
END:VEVENT
END:VCALENDAR