BEGIN:VCALENDAR
VERSION:2.0
PRODID:www.codnes.sk
BEGIN:VEVENT
UID:69e73d98632a3
DTSTART:20260314T200000Z
SEQUENCE:0
TRANSP:OPAQUE
DTEND:20260314T235959Z
LOCATION:Bratislava
SUMMARY:CIRKUS ANIMAL
CLASS:PUBLIC
DESCRIPTION:Dámy a páni\, privítajte „spektakulárny“\, „magnifiqu
 e“\, „shocking“\, „wunderbar“\, „bombastic“ &amp\; „g
DTSTAMP:20260421T090424Z
END:VEVENT
END:VCALENDAR