BEGIN:VCALENDAR
VERSION:2.0
PRODID:www.codnes.sk
BEGIN:VEVENT
UID:69ed3c53f0630
DTSTART:20260426T140000Z
SEQUENCE:0
TRANSP:OPAQUE
DTEND:20260426T180000Z
LOCATION:Bratislava
SUMMARY:Cirkus\, ktorý nevedel byť cirkusom
CLASS:PUBLIC
DESCRIPTION:Pantomimické predstavenie o ambicióznom principálovi\, narci
 stickom artistovi a nešikovnom pomocníkov
DTSTAMP:20260425T221235Z
END:VEVENT
END:VCALENDAR