BEGIN:VCALENDAR
VERSION:2.0
PRODID:www.codnes.sk
BEGIN:VEVENT
UID:69ecee813a27e
DTSTART:20240529T190000Z
SEQUENCE:0
TRANSP:OPAQUE
DTEND:20240529T235900Z
LOCATION:Bratislava
SUMMARY:Čo skrýva naše nevedomie | 29. 5. | Kácečko
CLASS:PUBLIC
DESCRIPTION:Prebývajú tam naše fantázie\, traumy i myšlienky\, ktoré 
 vytesnilo naše vedomie. Čo sa skrýva na mysti
DTSTAMP:20260425T164033Z
END:VEVENT
END:VCALENDAR