BEGIN:VCALENDAR
VERSION:2.0
PRODID:www.codnes.sk
BEGIN:VEVENT
UID:69eb3604948f9
DTSTART:20260425T123000Z
SEQUENCE:0
TRANSP:OPAQUE
DTEND:20260425T133000Z
LOCATION:Bratislava
SUMMARY:Čo vlastne jeme a aký to ma vplyv na svet\, v ktorom žijeme?
CLASS:PUBLIC
DESCRIPTION:Moderovaná diskusia o jedle\, jeho kvalite a vplyve na naše z
 dravie aj svet okolo nás. Spoločne sa po
DTSTAMP:20260424T092108Z
END:VEVENT
END:VCALENDAR