BEGIN:VCALENDAR
VERSION:2.0
PRODID:www.codnes.sk
BEGIN:VEVENT
UID:69e6cc55431d1
DTSTART:20260424T213000Z
SEQUENCE:0
TRANSP:OPAQUE
DTEND:20260424T235900Z
LOCATION:Bratislava
SUMMARY:CONNECT PARTY - SPRING 2
CLASS:PUBLIC
DESCRIPTION:BRATISLAVA🚨Connectky pokračujú\, a to vo veľkom štýle!V
 idíme sa už 24.4. v bratislavskom Aldea Clube❤
DTSTAMP:20260421T010109Z
END:VEVENT
END:VCALENDAR