BEGIN:VCALENDAR
VERSION:2.0
PRODID:www.codnes.sk
BEGIN:VEVENT
UID:69ed1be815d62
DTSTART:20260425T100000Z
SEQUENCE:0
TRANSP:OPAQUE
DTEND:20260425T180000Z
LOCATION:Bratislava
SUMMARY:Cukor\, káva\, čaj\, rum\, bum alebo Hry z ulíc a dvorov
CLASS:PUBLIC
DESCRIPTION:Hry na mestských dvoroch\, alebo spomínanie na časy\, keď s
 me boli dvornými dámami a pánmi. Skákanie g
DTSTAMP:20260425T195416Z
END:VEVENT
END:VCALENDAR