BEGIN:VCALENDAR
VERSION:2.0
PRODID:www.codnes.sk
BEGIN:VEVENT
UID:69e75b28f3700
DTSTART:20260406T163000Z
SEQUENCE:0
TRANSP:OPAQUE
DTEND:20260616T180000Z
LOCATION:Bratislava 3 - Nové Mesto
SUMMARY:Cyklokrúžky pre deti Bratislava 2026
CLASS:PUBLIC
DESCRIPTION:Cyklokrúžky pre deti v Bratislave 2026 od Kuba Cykloškola
DTSTAMP:20260421T111032Z
END:VEVENT
END:VCALENDAR