BEGIN:VCALENDAR
VERSION:2.0
PRODID:www.codnes.sk
BEGIN:VEVENT
UID:69ec093673af0
DTSTART:20260426T100000Z
SEQUENCE:0
TRANSP:OPAQUE
DTEND:20260426T120000Z
LOCATION:Bratislava
SUMMARY:Cyklovýlet za petržalskými monumentálkami
CLASS:PUBLIC
DESCRIPTION:Objavte monumentálne maľby Petržalky z obdobia socializmu po
 čas cyklo prehliadky so sprievodcom z Au
DTSTAMP:20260425T002214Z
END:VEVENT
END:VCALENDAR