BEGIN:VCALENDAR
VERSION:2.0
PRODID:www.codnes.sk
BEGIN:VEVENT
UID:69ec06d608cd0
DTSTART:20260426T100000Z
SEQUENCE:0
TRANSP:OPAQUE
DTEND:20260426T120000Z
LOCATION:Bratislava
SUMMARY:Cyklovýlet za Železnou oponou a bunkrami na elektrobicykloch
CLASS:PUBLIC
DESCRIPTION:Vydajte sa na cyklo prehliadku so sprievodcom z Authentic Slova
 kia pozdĺž rakúskych hraníc a objavte
DTSTAMP:20260425T001206Z
END:VEVENT
END:VCALENDAR