BEGIN:VCALENDAR
VERSION:2.0
PRODID:www.codnes.sk
BEGIN:VEVENT
UID:69e75996ebff6
DTSTART:20260422T160000Z
SEQUENCE:0
TRANSP:OPAQUE
DTEND:20260422T200000Z
LOCATION:Bratislava
SUMMARY:Deň Zeme na krídlach  –  naše vtáčiky
CLASS:PUBLIC
DESCRIPTION:Oslávte Deň Zeme v Staromestskej knižnici. Pozývame vás na
  workshop o vtáčikoch\, ktoré žijú všade ok
DTSTAMP:20260421T110350Z
END:VEVENT
END:VCALENDAR