BEGIN:VCALENDAR
VERSION:2.0
PRODID:www.codnes.sk
BEGIN:VEVENT
UID:69e6cdf945efc
DTSTART:20260425T210000Z
SEQUENCE:0
TRANSP:OPAQUE
DTEND:20260425T235900Z
LOCATION:Bratislava
SUMMARY:DEPECHE MODE party
CLASS:PUBLIC
DESCRIPTION:Pravidelná BLACK CELEBRATION v Randal Clube
DTSTAMP:20260421T010809Z
END:VEVENT
END:VCALENDAR