BEGIN:VCALENDAR
VERSION:2.0
PRODID:www.codnes.sk
BEGIN:VEVENT
UID:69ed1b25c5a92
DTSTART:20260425T100000Z
SEQUENCE:0
TRANSP:OPAQUE
DTEND:20260425T180000Z
LOCATION:Bratislava
SUMMARY:Detská električka
CLASS:PUBLIC
DESCRIPTION:Zažite čaro starých čias na vlastnej koži! Detská elektri
 čka je jedinečná tematická atrakcia inšpiro
DTSTAMP:20260425T195101Z
END:VEVENT
END:VCALENDAR