BEGIN:VCALENDAR
VERSION:2.0
PRODID:www.codnes.sk
BEGIN:VEVENT
UID:69e9e4608d1c9
DTSTART:20260423T173000Z
SEQUENCE:0
TRANSP:OPAQUE
DTEND:20260423T213000Z
LOCATION:Bratislava
SUMMARY:DETSKÉ PREŠI TO!
CLASS:PUBLIC
DESCRIPTION:DETSKÉ PREŠI TO!Ak aj vy máte doma dieťa\, ktorého tvoriv
 é ambície už presiahli vaše (mentálne/fyzick
DTSTAMP:20260423T092032Z
END:VEVENT
END:VCALENDAR