BEGIN:VCALENDAR
VERSION:2.0
PRODID:www.codnes.sk
BEGIN:VEVENT
UID:69e7467ceeaa9
DTSTART:20260313T200000Z
SEQUENCE:0
TRANSP:OPAQUE
DTEND:20260313T235900Z
LOCATION:Bratislava
SUMMARY:Dežo Ursiny Tribute: Kubo Ursiny & Nina Kohout
CLASS:PUBLIC
DESCRIPTION:Kubo Ursiny &amp\; Provisorium spolu so skvelou Ninou Kohout za
 hrajú to najlepšie z tvorby Deža Ursin
DTSTAMP:20260421T094220Z
END:VEVENT
END:VCALENDAR