BEGIN:VCALENDAR
VERSION:2.0
PRODID:www.codnes.sk
BEGIN:VEVENT
UID:69eb38f033a6a
DTSTART:20260425T180000Z
SEQUENCE:0
TRANSP:OPAQUE
DTEND:20260425T200000Z
LOCATION:Bratislava
SUMMARY:Diskusia a film Ruky na skle: Veronika Homolová Tóthová
CLASS:PUBLIC
DESCRIPTION:Pozývame vás na večer venovaný silným príbehom z našej h
 istórie\, na ktoré by sme nemali zabudnúť. Po
DTSTAMP:20260424T093336Z
END:VEVENT
END:VCALENDAR