BEGIN:VCALENDAR
VERSION:2.0
PRODID:www.codnes.sk
BEGIN:VEVENT
UID:69ed3bc9f0f01
DTSTART:20260426T100000Z
SEQUENCE:0
TRANSP:OPAQUE
DTEND:20260426T140000Z
LOCATION:Bratislava
SUMMARY:Divadielko Maťo – Kozliatka a vlk
CLASS:PUBLIC
DESCRIPTION:Kozliatka a vlk je parodické predstavenie\, v ktorom sa všetk
 o môže stať – dokonca aj to\, že vlk býva
DTSTAMP:20260425T221017Z
END:VEVENT
END:VCALENDAR