BEGIN:VCALENDAR
VERSION:2.0
PRODID:www.codnes.sk
BEGIN:VEVENT
UID:69ed3bca165b5
DTSTART:20260426T103000Z
SEQUENCE:0
TRANSP:OPAQUE
DTEND:20260426T113000Z
LOCATION:Bratislava
SUMMARY:DIVADLO: Mravec Gregor
CLASS:PUBLIC
DESCRIPTION:Krásny príbeh o hľadaní domova\, láske\, odvahe a pri
 ateľstve.Mravec Gregor žije svoj jednoduch
DTSTAMP:20260425T221018Z
END:VEVENT
END:VCALENDAR