BEGIN:VCALENDAR
VERSION:2.0
PRODID:www.codnes.sk
BEGIN:VEVENT
UID:69e745fe5b4b0
DTSTART:20260314T190000Z
SEQUENCE:0
TRANSP:OPAQUE
DTEND:20260314T235959Z
LOCATION:Bratislava
SUMMARY:Divadlo Panoptikum: ORESTES\, KDE SI?
CLASS:PUBLIC
DESCRIPTION:&nbsp\;Celú túto traumičku máš konečne možnosť využiť
 . Bude to príbeh\, pri ktorom nezostane jedno oko
DTSTAMP:20260421T094014Z
END:VEVENT
END:VCALENDAR