BEGIN:VCALENDAR
VERSION:2.0
PRODID:www.codnes.sk
BEGIN:VEVENT
UID:69e7398f227fd
DTSTART:20260314T190000Z
SEQUENCE:0
TRANSP:OPAQUE
DTEND:20260314T204500Z
LOCATION:Bratislava
SUMMARY:Divadlo Panoptikum: Orestes\, kde si?
CLASS:PUBLIC
DESCRIPTION:V Aischylovej trilógie Orestes zabije svoju matku a jej milenc
 a\, aby pomstil smrť svojho otca. Vraci
DTSTAMP:20260421T084711Z
END:VEVENT
END:VCALENDAR