BEGIN:VCALENDAR
VERSION:2.0
PRODID:www.codnes.sk
BEGIN:VEVENT
UID:69e5f1a23791d
DTSTART:20260420T190000Z
SEQUENCE:0
TRANSP:OPAQUE
DTEND:20260420T235900Z
LOCATION:Bratislava
SUMMARY:DIVADLO ZA ZRKADLOM / ODIVO: VNORENÁ
CLASS:PUBLIC
DESCRIPTION:Audiovizuálna (re)performancia o akútnej potrebe starostlivos
 ti.Audiovizuálna (re)performancia.Ponor
DTSTAMP:20260420T092802Z
END:VEVENT
END:VCALENDAR