BEGIN:VCALENDAR
VERSION:2.0
PRODID:www.codnes.sk
BEGIN:VEVENT
UID:69e5dc7626a7c
DTSTART:20250817T170000Z
SEQUENCE:0
TRANSP:OPAQUE
DTEND:20250817T220000Z
LOCATION:Liptovský Mikuláš
SUMMARY:DJ EKG presents  Summer Flow / 17.8
CLASS:PUBLIC
DESCRIPTION:Do Liptovského Mikuláša prichádza DJ EKG a nesie si aj hos
 ťa Marka Mazaga Počas dňa od 17:00 vytvor
DTSTAMP:20260420T075742Z
END:VEVENT
END:VCALENDAR