BEGIN:VCALENDAR
VERSION:2.0
PRODID:www.codnes.sk
BEGIN:VEVENT
UID:69e4d2e300074
DTSTART:20230623T130000Z
SEQUENCE:0
TRANSP:OPAQUE
DTEND:20230625T220000Z
LOCATION:Bratislava
SUMMARY:Dni Petržalky 2023
CLASS:PUBLIC
DESCRIPTION:Starosta Ján Hrčka a zastupiteľstvo mestskej časti Bratisla
 va-Petržalka vás pozývajú už na 26. roční
DTSTAMP:20260419T130435Z
END:VEVENT
END:VCALENDAR