BEGIN:VCALENDAR
VERSION:2.0
PRODID:www.codnes.sk
BEGIN:VEVENT
UID:69e74628867cc
DTSTART:20260314T190000Z
SEQUENCE:0
TRANSP:OPAQUE
DTEND:20260314T235900Z
LOCATION:Modra
SUMMARY:Dodo Forever – spomienkový koncert na Doda Tarkaya
CLASS:PUBLIC
DESCRIPTION:21. decembra 2025\, len tri dni pred Vianocami\, nás navždy o
 pustil priateľ\,&nbsp\;muzikant\, spevák\, sk
DTSTAMP:20260421T094056Z
END:VEVENT
END:VCALENDAR