BEGIN:VCALENDAR
VERSION:2.0
PRODID:www.codnes.sk
BEGIN:VEVENT
UID:69e9e35645069
DTSTART:20260423T180000Z
SEQUENCE:0
TRANSP:OPAQUE
DTEND:20260423T220000Z
LOCATION:Bratislava
SUMMARY:Dotkni sa histórie: Prvá a druhá svetová vojna v životoch žie
 n
CLASS:PUBLIC
DESCRIPTION:Pozývame na prednášku historičky z Univerzity Komenského E
 vy Škorvankovej. &nbsp\;&nbsp\;Vojny dramati
DTSTAMP:20260423T091606Z
END:VEVENT
END:VCALENDAR