BEGIN:VCALENDAR
VERSION:2.0
PRODID:www.codnes.sk
BEGIN:VEVENT
UID:69e9e3a36b58c
DTSTART:20260424T130000Z
SEQUENCE:0
TRANSP:OPAQUE
DTEND:20260424T170000Z
LOCATION:Bratislava
SUMMARY:DR. JURAJ ŠTEKLÁČ UVÁDZA  KORTIZOL (HORMÓN STRESU) – TICHÝ 
 VLÁDCA VÁŠHO TELA
CLASS:PUBLIC
DESCRIPTION:🗓 24. apríl&nbsp\;2026\, 14:00 hod.📍 Karloveské centrum
  kultúry13:00 – 15:00Kontrola ciev arteriografo
DTSTAMP:20260423T091723Z
END:VEVENT
END:VCALENDAR