BEGIN:VCALENDAR
VERSION:2.0
PRODID:www.codnes.sk
BEGIN:VEVENT
UID:69ed1c715e34c
DTSTART:20260425T100000Z
SEQUENCE:0
TRANSP:OPAQUE
DTEND:20260425T180000Z
LOCATION:Bratislava
SUMMARY:Drevenô koliesko – tvorivé dielničky
CLASS:PUBLIC
DESCRIPTION:Tvorivé dielničky pre deti aj rodičov ponúknu výrobu dreve
 ných medailí\, motýľov\, včielok či kvietkov
DTSTAMP:20260425T195633Z
END:VEVENT
END:VCALENDAR