BEGIN:VCALENDAR
VERSION:2.0
PRODID:www.codnes.sk
BEGIN:VEVENT
UID:69eb3941be374
DTSTART:20260425T133000Z
SEQUENCE:0
TRANSP:OPAQUE
DTEND:20260425T143000Z
LOCATION:Bratislava
SUMMARY:Emisie okolo nás
CLASS:PUBLIC
DESCRIPTION:Čo sú emisie skleníkových plynov a kde sa s nimi stretávam
 e v každodennom živote? Rozhovor ponúkne z
DTSTAMP:20260424T093457Z
END:VEVENT
END:VCALENDAR